View In:
Google Earth
ArcGIS JavaScript
View Footprint In:
Google Earth
Service Description:
Name: AGS/Ortho/ortho_1980
Description:
Extent:
XMin: 191310.914808686
YMin: 4464272.39306117
XMax: 740119.445034057
YMax: 4824842.23420143
Spatial Reference: 26915
Pixel Size X: 1
Pixel Size Y: 1
Band Count: 3
Pixel Type: U8
Min Pixel Size: 0
Max Pixel Size: 0
Copyright Text:
Service Data Type: esriImageServiceDataTypeRGB
Min Values:
Max Values:
Standard Deviation Values:
Supported Interfaces:
REST
SOAP
WMS
Supported Operations:
Export Image